BEGIN:VCALENDAR
VERSION:2.0
PRODID:-//ChamberMaster//Event Calendar 2.0//EN
METHOD:PUBLISH
X-PUBLISHED-TTL:P1H
REFRESH-INTERVAL:P1H
CALSCALE:GREGORIAN
BEGIN:VTIMEZONE
TZID:America/New_York
BEGIN:DAYLIGHT
RRULE:FREQ=YEARLY;BYMONTH=3;BYDAY=2SU
DTSTART:20070101T000000
TZOFFSETFROM:-0500
TZOFFSETTO:-0400
TZNAME:Eastern Daylight Time
END:DAYLIGHT
BEGIN:STANDARD
RRULE:FREQ=YEARLY;BYMONTH=11;BYDAY=1SU
DTSTART:20070101T000000
TZOFFSETFROM:-0400
TZOFFSETTO:-0500
TZNAME:Eastern Standard Time
END:STANDARD
END:VTIMEZONE
BEGIN:VEVENT
DTSTART;TZID=America/New_York:20260512T113000
DTEND;TZID=America/New_York:20260512T130000
X-MICROSOFT-CDO-ALLDAYEVENT:FALSE
SUMMARY:Level Up Your Brand Magic!
DESCRIPTION:Elevate your brand with clarity\, confidence\, and connection. In this dynamic lunch & learn\, you’ll discover the distinct yet complementary roles of marketing\, PR\, and branding. Plus\, you’ll learn practical ways to use AI to amplify your message\, position your business effectively\, and build authentic relationships that drive real results.\n\nJoin Eleni Gates of Gates Hospitality Group\, Amanda Rowe of Amanda Rowe Marketing\, and Melinda McVadon of Mojo Brand Magic for lunch\, engaging discussions\, and collaborative growth!\n\nEarly Bird pricing ($20) through April 30! Register today: https://www.eventbrite.com/e/1987465437625
X-ALT-DESC;FMTTYPE=text/html:Elevate your brand with clarity\, confidence\, and connection. In this dynamic lunch & learn\, you’ll discover the distinct yet complementary roles of marketing\, PR\, and branding. Plus\, you’ll learn practical ways to use AI to amplify your message\, position your business effectively\, and build authentic relationships that drive real results.\n\nJoin Eleni Gates of Gates Hospitality Group\, Amanda Rowe of Amanda Rowe Marketing\, and Melinda McVadon of Mojo Brand Magic for lunch\, engaging discussions\, and collaborative growth!\n\nEarly Bird pricing ($20) through April 30! Register today: https://www.eventbrite.com/e/1987465437625
LOCATION:11033 Carolina Pl Pkwy Pineville NC 28134
UID:e.1533.1445473
SEQUENCE:3
DTSTAMP:20260420T085219Z
URL:https://directory.charlotteareachamber.com/education/Details/level-up-your-brand-magic-1712097?sourceTypeId=Hub
END:VEVENT
END:VCALENDAR
