BEGIN:VCALENDAR
VERSION:2.0
PRODID:-//ChamberMaster//Event Calendar 2.0//EN
METHOD:PUBLISH
X-PUBLISHED-TTL:P1H
REFRESH-INTERVAL:P1H
CALSCALE:GREGORIAN
BEGIN:VTIMEZONE
TZID:America/New_York
BEGIN:DAYLIGHT
RRULE:FREQ=YEARLY;BYMONTH=3;BYDAY=2SU
DTSTART:20070101T000000
TZOFFSETFROM:-0500
TZOFFSETTO:-0400
TZNAME:Eastern Daylight Time
END:DAYLIGHT
BEGIN:STANDARD
RRULE:FREQ=YEARLY;BYMONTH=11;BYDAY=1SU
DTSTART:20070101T000000
TZOFFSETFROM:-0400
TZOFFSETTO:-0500
TZNAME:Eastern Standard Time
END:STANDARD
END:VTIMEZONE
BEGIN:VEVENT
DTSTART;TZID=America/New_York:20260423T093000
DTEND;TZID=America/New_York:20260423T110000
X-MICROSOFT-CDO-ALLDAYEVENT:FALSE
SUMMARY:BrainTrust LowDown
DESCRIPTION:REGISTER HERE  You don't have to build your business alone. Join us for our BrainTrust Lowdown where you'll meet the BrainTrust team and learn exactly what we are (and what we're not)! Learn how our peer-led model propels your business forward. And connect with fellow women business owners who are looking to challenge and support each other. Come get the Lowdown with us!
X-ALT-DESC;FMTTYPE=text/html:<!DOCTYPE html><html><head><title></title></head><body aria-disabled="false"><p><a fr-original-style="" href="https://share.hsforms.com/1PAYLzdxgQn-mymOhUsHsoA40yqr" style="user-select: auto\;">REGISTER HERE</a>&nbsp\; You don&#39\;t have to build your business alone. Join us for our BrainTrust Lowdown where you&#39\;ll meet the BrainTrust team and learn exactly what we are (and what we&#39\;re not)! Learn how our peer-led model propels your business forward. And connect with fellow women business owners who are looking to challenge and support each other. Come get the Lowdown with us!</p></body></html>
LOCATION:118 E Kingston Ave Charlotte NC 28203
UID:e.1533.1437204
SEQUENCE:3
DTSTAMP:20260422T085006Z
URL:https://directory.charlotteareachamber.com/education/Details/braintrust-lowdown-1701147?sourceTypeId=Hub
END:VEVENT
END:VCALENDAR
